BEGIN:VCALENDAR
VERSION:2.0
PRODID:-//Preparedness &amp; Training - ECPv6.15.20//NONSGML v1.0//EN
CALSCALE:GREGORIAN
METHOD:PUBLISH
X-ORIGINAL-URL:https://preparednessandtraining.com
X-WR-CALDESC:Events for Preparedness &amp; Training
REFRESH-INTERVAL;VALUE=DURATION:PT1H
X-Robots-Tag:noindex
X-PUBLISHED-TTL:PT1H
BEGIN:VTIMEZONE
TZID:America/Chicago
BEGIN:DAYLIGHT
TZOFFSETFROM:-0600
TZOFFSETTO:-0500
TZNAME:CDT
DTSTART:20250309T080000
END:DAYLIGHT
BEGIN:STANDARD
TZOFFSETFROM:-0500
TZOFFSETTO:-0600
TZNAME:CST
DTSTART:20251102T070000
END:STANDARD
BEGIN:DAYLIGHT
TZOFFSETFROM:-0600
TZOFFSETTO:-0500
TZNAME:CDT
DTSTART:20260308T080000
END:DAYLIGHT
BEGIN:STANDARD
TZOFFSETFROM:-0500
TZOFFSETTO:-0600
TZNAME:CST
DTSTART:20261101T070000
END:STANDARD
BEGIN:DAYLIGHT
TZOFFSETFROM:-0600
TZOFFSETTO:-0500
TZNAME:CDT
DTSTART:20270314T080000
END:DAYLIGHT
BEGIN:STANDARD
TZOFFSETFROM:-0500
TZOFFSETTO:-0600
TZNAME:CST
DTSTART:20271107T070000
END:STANDARD
END:VTIMEZONE
BEGIN:VEVENT
DTSTART;VALUE=DATE:20260501
DTEND;VALUE=DATE:20260601
DTSTAMP:20260423T113636
CREATED:20251129T204406Z
LAST-MODIFIED:20260402T232637Z
UID:7288-1777593600-1780271999@preparednessandtraining.com
SUMMARY:🧸 Child & Babysitting Safety (CABS) – Choose the Training That Fits You!
DESCRIPTION:🧸 Child & Babysitting Safety (CABS) – Choose the Training That Fits You!\n📩 Register Here \nPreparedness and Training LLC now offers two great ways for teens and young adults to build confidence and skills as safe\, responsible babysitters. \nOption 1: ONLINE CABS Class\nLearn the essentials of babysitting anytime\, anywhere!This online course covers:• How to start a babysitting business• Working with parents and children• Safety\, caregiving\, and first aid basics• Fun\, engaging lessons with a magazine-style guide & video contentPerfect for busy schedules and independent learners! \n\nOption 2: Blended Learning CABS + CPR/First Aid\nTake your babysitting skills to the next level with a combination of online learning plus hands-on CPR/First Aid training.Includes:• Complete CABS curriculum• In-person CPR & First Aid practice (schedule that after completing your online courses)• Certification to boost babysitting credibility and safety skillsIdeal for those wanting a more comprehensive\, confidence-building experience. \n\n#CABS\, #BabysittingSafety\, #TeenTraining\, #HSITraining\, #CPRTraining\, #FirstAid\, #PreparednessAndTraining\, #YouthSkills
URL:https://preparednessandtraining.com/event/%f0%9f%a7%b8-child-babysitting-safety-cabs-choose-the-training-that-fits-you-6/
LOCATION:ONLINE
ATTACH;FMTTYPE=image/png:https://preparednessandtraining.com/wp-content/uploads/2023/05/Babysitter-Training.png
ORGANIZER;CN="Preparedness and Training":MAILTO:bjackson72@me.com
END:VEVENT
END:VCALENDAR