BEGIN:VCALENDAR
VERSION:2.0
PRODID:-//Preparedness &amp; Training - ECPv6.15.20//NONSGML v1.0//EN
CALSCALE:GREGORIAN
METHOD:PUBLISH
X-ORIGINAL-URL:https://preparednessandtraining.com
X-WR-CALDESC:Events for Preparedness &amp; Training
REFRESH-INTERVAL;VALUE=DURATION:PT1H
X-Robots-Tag:noindex
X-PUBLISHED-TTL:PT1H
BEGIN:VTIMEZONE
TZID:America/Chicago
BEGIN:DAYLIGHT
TZOFFSETFROM:-0600
TZOFFSETTO:-0500
TZNAME:CDT
DTSTART:20240310T080000
END:DAYLIGHT
BEGIN:STANDARD
TZOFFSETFROM:-0500
TZOFFSETTO:-0600
TZNAME:CST
DTSTART:20241103T070000
END:STANDARD
BEGIN:DAYLIGHT
TZOFFSETFROM:-0600
TZOFFSETTO:-0500
TZNAME:CDT
DTSTART:20250309T080000
END:DAYLIGHT
BEGIN:STANDARD
TZOFFSETFROM:-0500
TZOFFSETTO:-0600
TZNAME:CST
DTSTART:20251102T070000
END:STANDARD
BEGIN:DAYLIGHT
TZOFFSETFROM:-0600
TZOFFSETTO:-0500
TZNAME:CDT
DTSTART:20260308T080000
END:DAYLIGHT
BEGIN:STANDARD
TZOFFSETFROM:-0500
TZOFFSETTO:-0600
TZNAME:CST
DTSTART:20261101T070000
END:STANDARD
END:VTIMEZONE
BEGIN:VEVENT
DTSTART;TZID=America/Chicago:20250917T140000
DTEND;TZID=America/Chicago:20250917T160000
DTSTAMP:20260419T231300
CREATED:20250712T160551Z
LAST-MODIFIED:20250712T160551Z
UID:6914-1758117600-1758124800@preparednessandtraining.com
SUMMARY:Adult\, Child and Infant CPR/AED/First Aid - Blended Learing
DESCRIPTION:You MUST bring verification of online completion in order to participate in the hands on skills session. This is either a certificate at the end of the online portion or an email stating you completed it.  YOU WILL NOT BE PERMITTED TO COMPLETE HANDS ON SKILLS WITHOUT THE PRINTOUT.  \nOnline + Classroom Session  \nClick here  to register – Adult and Pediatric First Aid/CPR/AED – once registered the online portion will be emailed to you. \nClick here to schedule your hands on portions & pay for your class.  – multiple time slots available.  Skills must be completed within 30 days. \nSkill Session time slots on Monday\, Wednesday and Fridays.  IF THERE ARE NO SLOTS AVAILABLE TODAY\, THEY ARE ALL FILLED\, YOU CAN CHOOSE OTHER DATES.  \nAdult\, Child & Infant First Aid/CPR/AED blended learning course equips students to recognize and care for a variety of first aid breathing and cardiac emergencies involving adults children and infants. It is designed for students who need a certification that satisfies OSHA workplace or other regulatory requirements. This class is taught in a blended learning format and the online portion (accessed via mobile desktop or tablet) must be completed prior to attending the in person hands on skills session. Upon successful completion a valid 2 year digital certificate for Adult\, Child & Infant First Aid/CPR/AED is issued. \nIf you are having issues with the link please contact us right away so we can work with you on completing the requirements. \n  \nAfter Registration\, you will be sent the link for the online portion — usually within 24 hours so keep an eye on your spam folder.   Let us know if you have any issues.
URL:https://preparednessandtraining.com/event/adult-child-and-infant-cpr-aed-first-aid-blended-learing/
LOCATION:Online/In person Skills\, 109 Lower Ridge Road\, Conway\, AR\, 72032\, United States
ATTACH;FMTTYPE=image/jpeg:https://preparednessandtraining.com/wp-content/uploads/2023/07/Adult-and-Pediatric-First-Aid-cpr-aed.jpg
ORGANIZER;CN="Preparedness and Training":MAILTO:bjackson72@me.com
END:VEVENT
END:VCALENDAR