BEGIN:VCALENDAR
VERSION:2.0
PRODID:-//Preparedness &amp; Training - ECPv6.15.20//NONSGML v1.0//EN
CALSCALE:GREGORIAN
METHOD:PUBLISH
X-ORIGINAL-URL:https://preparednessandtraining.com
X-WR-CALDESC:Events for Preparedness &amp; Training
REFRESH-INTERVAL;VALUE=DURATION:PT1H
X-Robots-Tag:noindex
X-PUBLISHED-TTL:PT1H
BEGIN:VTIMEZONE
TZID:America/Chicago
BEGIN:DAYLIGHT
TZOFFSETFROM:-0600
TZOFFSETTO:-0500
TZNAME:CDT
DTSTART:20250309T080000
END:DAYLIGHT
BEGIN:STANDARD
TZOFFSETFROM:-0500
TZOFFSETTO:-0600
TZNAME:CST
DTSTART:20251102T070000
END:STANDARD
BEGIN:DAYLIGHT
TZOFFSETFROM:-0600
TZOFFSETTO:-0500
TZNAME:CDT
DTSTART:20260308T080000
END:DAYLIGHT
BEGIN:STANDARD
TZOFFSETFROM:-0500
TZOFFSETTO:-0600
TZNAME:CST
DTSTART:20261101T070000
END:STANDARD
BEGIN:DAYLIGHT
TZOFFSETFROM:-0600
TZOFFSETTO:-0500
TZNAME:CDT
DTSTART:20270314T080000
END:DAYLIGHT
BEGIN:STANDARD
TZOFFSETFROM:-0500
TZOFFSETTO:-0600
TZNAME:CST
DTSTART:20271107T070000
END:STANDARD
END:VTIMEZONE
BEGIN:VEVENT
DTSTART;VALUE=DATE:20260201
DTEND;VALUE=DATE:20260301
DTSTAMP:20260419T130357
CREATED:20251130T202816Z
LAST-MODIFIED:20260131T172508Z
UID:7301-1769904000-1772323199@preparednessandtraining.com
SUMMARY:First Aid Online
DESCRIPTION:Online First Aid Training – Course Overview\nPreparedness and Training is offering online First Aid classes designed to build essential skills for responding to sudden injuries and medical emergencies. The program follows the AHA and ARC Guidelines Update for First Aid\, ensuring participants learn current\, evidence-based practices. \nCourse Topics\n\n\nRecognizing an emergency \n\n\nSafely moving an injured person \n\n\nPrimary assessment (responsive and unresponsive individuals) \n\n\nChoking response \n\n\nBleeding control \n\n\nManaging shock \n\n\nHead\, neck\, and back injuries \n\n\nBurns \n\n\nStroke recognition and response \n\n\nPoisoning \n\n\nREGISTER HERE – your online training will be delivered to your inbox within 24 hours.  If you do not get it please contact us immediately.
URL:https://preparednessandtraining.com/event/first-aid-online-3/
LOCATION:ONLINE
ATTACH;FMTTYPE=image/png:https://preparednessandtraining.com/wp-content/uploads/2025/11/website-first-aid-graphic.png
ORGANIZER;CN="Preparedness and Training":MAILTO:bjackson72@me.com
END:VEVENT
END:VCALENDAR