BEGIN:VCALENDAR
VERSION:2.0
PRODID:-//Preparedness &amp; Training - ECPv6.15.20//NONSGML v1.0//EN
CALSCALE:GREGORIAN
METHOD:PUBLISH
X-WR-CALNAME:Preparedness &amp; Training
X-ORIGINAL-URL:https://preparednessandtraining.com
X-WR-CALDESC:Events for Preparedness &amp; Training
REFRESH-INTERVAL;VALUE=DURATION:PT1H
X-Robots-Tag:noindex
X-PUBLISHED-TTL:PT1H
BEGIN:VTIMEZONE
TZID:America/Chicago
BEGIN:DAYLIGHT
TZOFFSETFROM:-0600
TZOFFSETTO:-0500
TZNAME:CDT
DTSTART:20250309T080000
END:DAYLIGHT
BEGIN:STANDARD
TZOFFSETFROM:-0500
TZOFFSETTO:-0600
TZNAME:CST
DTSTART:20251102T070000
END:STANDARD
BEGIN:DAYLIGHT
TZOFFSETFROM:-0600
TZOFFSETTO:-0500
TZNAME:CDT
DTSTART:20260308T080000
END:DAYLIGHT
BEGIN:STANDARD
TZOFFSETFROM:-0500
TZOFFSETTO:-0600
TZNAME:CST
DTSTART:20261101T070000
END:STANDARD
BEGIN:DAYLIGHT
TZOFFSETFROM:-0600
TZOFFSETTO:-0500
TZNAME:CDT
DTSTART:20270314T080000
END:DAYLIGHT
BEGIN:STANDARD
TZOFFSETFROM:-0500
TZOFFSETTO:-0600
TZNAME:CST
DTSTART:20271107T070000
END:STANDARD
END:VTIMEZONE
BEGIN:VEVENT
DTSTART;VALUE=DATE:20260401
DTEND;VALUE=DATE:20260501
DTSTAMP:20260423T071440
CREATED:20251119T151744Z
LAST-MODIFIED:20260331T142149Z
UID:7216-1775001600-1777593599@preparednessandtraining.com
SUMMARY:AHA Basic Life Support for Healthcare Providers - Blended Learning
DESCRIPTION:Course Description\nHeartCode® BLS Online is a self-directed\, comprehensive eLearning program that uses adaptive learning technology to teach and assess Basic Life Support skills. This program is designed for healthcare professionals who require BLS training for their clinical roles. \nThrough a combination of dramatizations\, interactive exercises\, knowledge checks\, and scenario-based assessments\, learners gain essential skills in recognizing and responding to cardiac and breathing emergencies. The online platform provides consistency\, flexibility\, and real-time feedback for different learning styles. \nUpon successful completion of both the online course and the hands-on skills session\, participants will receive an American Heart Association BLS Provider eCard\, valid for two years. \n\nTwo Easy Steps!\nStep 1: Online Learning – $37.00\nRegister through the American Heart Association website to complete the online HeartCode® BLS course. \nBring your online completion certificate to your scheduled skills session. \nNote: Without proof of completion\, we cannot verify skills or upload results to AHA. \nStep 2: Hands-On Skills Session – $40.00\nComplete your in-person skills check with an AHA-certified instructor. \nAvailable time slots: Monday\, Wednesday\, and Friday. \nClick here to schedule your session.  (You can come back and do this step later). \n 
URL:https://preparednessandtraining.com/event/aha-basic-life-support-for-healthcare-providers-blended-learning-4/
LOCATION:Online/In person Skills\, 109 Lower Ridge Road\, Conway\, AR\, 72032\, United States
ATTACH;FMTTYPE=image/png:https://preparednessandtraining.com/wp-content/uploads/2025/07/Basic-Life-Support-Logo.png
ORGANIZER;CN="Preparedness and Training":MAILTO:bjackson72@me.com
END:VEVENT
BEGIN:VEVENT
DTSTART;VALUE=DATE:20260401
DTEND;VALUE=DATE:20260501
DTSTAMP:20260423T071440
CREATED:20250712T155522Z
LAST-MODIFIED:20260413T151628Z
UID:6903-1775001600-1777593599@preparednessandtraining.com
SUMMARY:Adult CPR/AED/First Aid - Blended Learning
DESCRIPTION:Adult First Aid/CPR/AED – Blended Learning Course\nImportant Requirement\nYou must bring verification of online completion to participate in your hands-on skills session.Acceptable verification includes: \nA certificate of completion from the online course\, or \nAn email confirmation stating you completed the online portion. \n⚠️ Without proof of completion\, you will not be permitted to attend the skills session. \n\nCourse Format: Online + Classroom Session\n\n\nRegister Here– Adult First Aid/CPR/AED Online Course\n\n\nSchedule Hands on Here – Multiple time slots available. You can always come back later to schedule when you finish the online part.  \n\n\n🕒 Skills sessions are offered Monday\, Wednesday\, and Friday.If no slots are available today\, please check other dates.All skills sessions must be completed within 30 days of finishing the online portion. \n\nAbout the Course\nThe Adult First Aid/CPR/AED course incorporates the latest science-based guidelines and prepares students to: \nRecognize and care for a variety of first aid emergencies such as burns\, cuts\, scrapes\, sudden illnesses\, head/neck/back injuries\, and heat or cold emergencies \nRespond effectively to breathing and cardiac emergencies in adults and teens (12 years and older) \n✅ Upon successful completion\, participants receive a two-year certification in Adult First Aid/CPR/AED. \n\nIdeal For\nThis course is excellent for Construction Crews\, Athletic Trainers\, Road Workers\, and Tug Boat Operators\, as well as anyone needing a workplace or safety certification. \n\nIf you encounter any issues with registration or links\, contact us right away so we can assist you in completing the requirements.
URL:https://preparednessandtraining.com/event/adult-cpr-aed-first-aid-blended-learning-20/
LOCATION:Online/In person Skills\, 109 Lower Ridge Road\, Conway\, AR\, 72032\, United States
ATTACH;FMTTYPE=image/png:https://preparednessandtraining.com/wp-content/uploads/2025/07/adult-cpr-first-aid-1.png
ORGANIZER;CN="Preparedness and Training":MAILTO:bjackson72@me.com
END:VEVENT
BEGIN:VEVENT
DTSTART;VALUE=DATE:20260401
DTEND;VALUE=DATE:20260501
DTSTAMP:20260423T071440
CREATED:20251110T231825Z
LAST-MODIFIED:20260402T234000Z
UID:7193-1775001600-1777593599@preparednessandtraining.com
SUMMARY:🚑Red Cross Advance Life Support (cardiac) Blended Learning
DESCRIPTION:🚑 Advanced Life Support (ALS / ACLS) — American Red Cross\nYou now have a choice in healthcare education from the first provider of resuscitation training in the United States.The Advanced Life Support (ALS) course — sometimes referred to as ACLS — from the American Red Cross has been designed specifically for healthcare providers and first responders. \nThis program streamlines training\, strengthens skill retention\, and helps you deliver high-quality care with confidence and efficiency. \n\n🩺 Course Overview\nBuilding upon your Basic Life Support (BLS) foundation\, the Advanced Life Support (ALS) course integrates: \nRhythm interpretation \nElectrical interventions \nPharmacologic knowledge \nCritical thinking and problem-solving \nHands-on psychomotor skill development \nThe curriculum emphasizes high-quality\, evidence-based patient care\, helping you achieve the best possible patient outcomes. \nParticipants will learn to: \nConduct advanced life support assessments \nManage respiratory emergencies \n\n\nApply ACLS protocols for: \n\n\nAcute arrhythmias \n\n\nCardiac arrest and post–cardiac arrest care \n\n\nAcute coronary syndromes \n\n\nAcute strokeAll scenarios and instruction are aligned with American Red Cross and ILCOR standards\, preparing providers in both in-hospital and out-of-hospital environments. \n\n\n\n\n\n💻 Blended Learning Format\nThe Blended Learning ALS program combines online coursework with an in-person skills session\, giving you flexibility to learn at your own pace — anytime\, anywhere\, and on any device. \nInteractive case-based scenarios strengthen clinical decision-making and help you connect scientific concepts to real-world care.After completing the online module and passing the final written exam\, you’ll attend an in-person skills session to demonstrate your ALS competencies. \nUpon successful completion\, participants receive a two-year ALS certification. \n\n⚙️ Personalized Instruction & Adaptive Learning\nThe Red Cross ALS course uses adaptive learning technology to tailor content to your experience level.Learners who demonstrate proficiency can test out of certain sessions\, reducing total course time while maintaining the highest quality standards. \nThis personalized path helps you earn your ALS certification faster and keeps your training experience engaging and efficient. \n\n⏱️ Experienced ALS Providers\nFor current or experienced ALS providers\, the Red Cross offers streamlined recertification options: \n\n\nReview Option: Brief in-person skills review before testing. \n\n\nChallenge Option: Go straight to the skills test. \n\n\nThese flexible formats allow you to renew your ALS/ACLS certification in less time while ensuring ongoing competency. \n\n👩‍⚕️ Who Should Enroll\nAdvanced Life Support (ALS/ACLS) is designed for: \nProfessional healthcare providers \nEMS professionals and first responders \nNurses\, physicians\, CNAs\, and allied health staff \nProviders working in in-hospital\, pre-hospital\, or out-of-hospital environments \nPrerequisite: Proficiency in Adult Basic Life Support (BLS) skills. \nREGISTER HERE\n\n📅 Schedule Your Hands-On Session\nComplete your online portion (sent within 24 hours of registration) and schedule your skills time below:🔗 https://calendly.com/info-15576/acls-hands-on
URL:https://preparednessandtraining.com/event/red-cross-advance-life-support-cardiac-blended-learning/
LOCATION:Online/In person Skills\, 109 Lower Ridge Road\, Conway\, AR\, 72032\, United States
ATTACH;FMTTYPE=image/png:https://preparednessandtraining.com/wp-content/uploads/2024/04/Advanced-Cardiac-Life-Support.png
ORGANIZER;CN="Preparedness and Training":MAILTO:bjackson72@me.com
END:VEVENT
BEGIN:VEVENT
DTSTART;VALUE=DATE:20260401
DTEND;VALUE=DATE:20260501
DTSTAMP:20260423T071440
CREATED:20251110T230435Z
LAST-MODIFIED:20260402T233402Z
UID:7189-1775001600-1777593599@preparednessandtraining.com
SUMMARY:CPR/AED for Professional Rescuers (CPRO) - Blended Learning
DESCRIPTION:🩺 CPR/AED for Professional Rescuers (CPRO)\nThe CPR/AED for Professional Rescuers (CPRO) program trains professional-level rescuers to respond effectively to breathing and cardiac emergencies involving adults\, children\, and infants until more advanced medical personnel take over. \nThis course has been updated to the latest International Liaison Committee on Resuscitation (ILCOR) guidelines\, including the American Red Cross Aquatic Guidelines and Best Practices\, which are based on scientific evidence evaluations and reviews overseen by the American Red Cross Scientific Advisory Council. \n\n👩‍⚕️ Who Should Take This Course\nThe term professional rescuer refers to individuals with a duty to act\, including: \nEMS professionals and first responders \nNurses\, physicians\, and CNAs \nLifeguards\, athletic trainers\, and recreation staff \nOther healthcare and public safety personnel \n\n🧠 Course Content\nParticipants will develop knowledge and hands-on skills to provide high-quality emergency care in a professional setting\, including: \nRapid patient assessment \nGiving ventilations using a resuscitation mask \nUsing a Bag-Valve-Mask (BVM) resuscitator with two rescuers \nPerforming CPR and AED use in single-\, two-\, and multiple-rescuer (team) settings \nProviding obstructed airway care for responsive and unresponsive patients \n\n🕓 Certification & Format\nMeets professional-level and OSHA standards \nUpdated to current American Red Cross and ILCOR Guidelines \n2-year certification upon successful completion \nAvailable in blended learning or full in-person formats \nTaught by certified\, experienced instructors \n\n📍 Register Today \nStay current\, confident\, and ready to respond.Visit www.preparednessandtraining.com to register for upcoming sessions.Preparedness & Training\, LLC — Educating responders since 2007.
URL:https://preparednessandtraining.com/event/cpr-aed-for-professional-rescuers-cpro-blended-learning/
LOCATION:Online/In person Skills\, 109 Lower Ridge Road\, Conway\, AR\, 72032\, United States
ATTACH;FMTTYPE=image/png:https://preparednessandtraining.com/wp-content/uploads/2025/11/cpro-graphic.png
ORGANIZER;CN="Preparedness and Training":MAILTO:bjackson72@me.com
END:VEVENT
END:VCALENDAR