BEGIN:VCALENDAR
VERSION:2.0
PRODID:-//Preparedness &amp; Training - ECPv6.15.20//NONSGML v1.0//EN
CALSCALE:GREGORIAN
METHOD:PUBLISH
X-ORIGINAL-URL:https://preparednessandtraining.com
X-WR-CALDESC:Events for Preparedness &amp; Training
REFRESH-INTERVAL;VALUE=DURATION:PT1H
X-Robots-Tag:noindex
X-PUBLISHED-TTL:PT1H
BEGIN:VTIMEZONE
TZID:America/Chicago
BEGIN:DAYLIGHT
TZOFFSETFROM:-0600
TZOFFSETTO:-0500
TZNAME:CDT
DTSTART:20250309T080000
END:DAYLIGHT
BEGIN:STANDARD
TZOFFSETFROM:-0500
TZOFFSETTO:-0600
TZNAME:CST
DTSTART:20251102T070000
END:STANDARD
BEGIN:DAYLIGHT
TZOFFSETFROM:-0600
TZOFFSETTO:-0500
TZNAME:CDT
DTSTART:20260308T080000
END:DAYLIGHT
BEGIN:STANDARD
TZOFFSETFROM:-0500
TZOFFSETTO:-0600
TZNAME:CST
DTSTART:20261101T070000
END:STANDARD
BEGIN:DAYLIGHT
TZOFFSETFROM:-0600
TZOFFSETTO:-0500
TZNAME:CDT
DTSTART:20270314T080000
END:DAYLIGHT
BEGIN:STANDARD
TZOFFSETFROM:-0500
TZOFFSETTO:-0600
TZNAME:CST
DTSTART:20271107T070000
END:STANDARD
END:VTIMEZONE
BEGIN:VEVENT
DTSTART;TZID=America/Chicago:20260109T080000
DTEND;TZID=America/Chicago:20260109T093000
DTSTAMP:20260423T114359
CREATED:20251130T204006Z
LAST-MODIFIED:20251130T204007Z
UID:7318-1767945600-1767951000@preparednessandtraining.com
SUMMARY:Adult CPR/AED – Blended Learning Course
DESCRIPTION:Adult CPR/AED – Blended Learning Course\nImportant Requirement\nYou MUST bring verification of online completion in order to participate in the hands-on skills session.Acceptable verification includes: \n\n\nA certificate of completion at the end of the online portion\, or \n\n\nAn email confirmation stating you completed the online module. \n\n\n⚠️ Without proof of completion\, you will not be permitted to attend the skills session. \n\nCourse Format: Online + Classroom Session\n\n\n[Click here to register] – Adult CPR/AED Online Course \n\n\n[Click here to schedule your hands-on session] – Multiple time slots available. \n\n\n🕒 Skills sessions are available on Monday\, Wednesday\, and Friday.If no time slots are available today\, please check other dates.All skills sessions must be completed within 30 days of finishing the online portion. \n\nAbout the Course\nThe Adult CPR/AED Blended Learning Course  equips students to recognize and respond to a variety of breathing and cardiac emergencies involving adults.It is ideal for individuals who need certification to meet OSHA workplace or other regulatory requirements. \nThis course is delivered in a blended format: \n\n\nThe online portion can be completed on a mobile device\, desktop\, or tablet\, and \n\n\nThe instructor-led skills session follows once the online training is complete. \n\n\n✅ Upon successful completion\, students receive a 2-year digital certification in Adult CPR/AED. \n\nA link to the online portion will be issued after your order is placed.If you experience any issues with your course link\, contact us immediately so we can assist you in completing your requirements. \n\nPerfect For\nPersonal Trainers\, Fitness Instructors\, and anyone wanting to learn the first steps to help someone in cardiac arrest.
URL:https://preparednessandtraining.com/event/adult-cpr-aed-blended-learning-course/
LOCATION:Online/In person Skills\, 109 Lower Ridge Road\, Conway\, AR\, 72032\, United States
ATTACH;FMTTYPE=image/jpeg:https://preparednessandtraining.com/wp-content/uploads/2023/08/Adult-CPRAED-Blended-Learning.jpg
ORGANIZER;CN="Preparedness and Training":MAILTO:bjackson72@me.com
END:VEVENT
END:VCALENDAR