BEGIN:VCALENDAR
VERSION:2.0
PRODID:-//Preparedness &amp; Training - ECPv6.15.20//NONSGML v1.0//EN
CALSCALE:GREGORIAN
METHOD:PUBLISH
X-WR-CALNAME:Preparedness &amp; Training
X-ORIGINAL-URL:https://preparednessandtraining.com
X-WR-CALDESC:Events for Preparedness &amp; Training
REFRESH-INTERVAL;VALUE=DURATION:PT1H
X-Robots-Tag:noindex
X-PUBLISHED-TTL:PT1H
BEGIN:VTIMEZONE
TZID:America/Chicago
BEGIN:DAYLIGHT
TZOFFSETFROM:-0600
TZOFFSETTO:-0500
TZNAME:CDT
DTSTART:20240310T080000
END:DAYLIGHT
BEGIN:STANDARD
TZOFFSETFROM:-0500
TZOFFSETTO:-0600
TZNAME:CST
DTSTART:20241103T070000
END:STANDARD
BEGIN:DAYLIGHT
TZOFFSETFROM:-0600
TZOFFSETTO:-0500
TZNAME:CDT
DTSTART:20250309T080000
END:DAYLIGHT
BEGIN:STANDARD
TZOFFSETFROM:-0500
TZOFFSETTO:-0600
TZNAME:CST
DTSTART:20251102T070000
END:STANDARD
BEGIN:DAYLIGHT
TZOFFSETFROM:-0600
TZOFFSETTO:-0500
TZNAME:CDT
DTSTART:20260308T080000
END:DAYLIGHT
BEGIN:STANDARD
TZOFFSETFROM:-0500
TZOFFSETTO:-0600
TZNAME:CST
DTSTART:20261101T070000
END:STANDARD
END:VTIMEZONE
BEGIN:VEVENT
DTSTART;TZID=America/Chicago:20251201T080000
DTEND;TZID=America/Chicago:20251201T093000
DTSTAMP:20260423T114807
CREATED:20251107T185348Z
LAST-MODIFIED:20251107T185348Z
UID:7144-1764576000-1764581400@preparednessandtraining.com
SUMMARY:Basic Life Support **2025 Guidelines
DESCRIPTION:Course Description\nHeartCode® BLS Online is a self-directed\, comprehensive eLearning program that uses adaptive learning technology to teach and assess Basic Life Support skills. This program is designed for healthcare professionals who require BLS training for their clinical roles. \nThrough a combination of dramatizations\, interactive exercises\, knowledge checks\, and scenario-based assessments\, learners gain essential skills in recognizing and responding to cardiac and breathing emergencies. The online platform provides consistency\, flexibility\, and real-time feedback for different learning styles. \nUpon successful completion of both the online course and the hands-on skills session\, participants will receive an American Heart Association BLS Provider eCard\, valid for two years. \n\nTwo Easy Steps!\nStep 1: Online Learning – $37.00 \n\n\nRegister through the American Heart Association website to complete the online HeartCode® BLS course. \n\n\nBring your online completion certificate to your scheduled skills session. \n\n\nNote: Without proof of completion\, we cannot verify skills or upload results to AHA. \n\n\nStep 2: Hands-On Skills Session – $40.00 \n\n\nComplete your in-person skills check with an AHA-certified instructor. \n\n\nAvailable time slots: Monday\, Wednesday\, and Friday. \n\n\nClick here to schedule your session.  (You can come back and do this step later).
URL:https://preparednessandtraining.com/event/basic-life-support-2025-guidelines/
LOCATION:Online/In person Skills\, 109 Lower Ridge Road\, Conway\, AR\, 72032\, United States
ATTACH;FMTTYPE=image/png:https://preparednessandtraining.com/wp-content/uploads/2025/07/Basic-Life-Support-Logo.png
ORGANIZER;CN="Preparedness and Training":MAILTO:bjackson72@me.com
END:VEVENT
BEGIN:VEVENT
DTSTART;TZID=America/Chicago:20251205T080000
DTEND;TZID=America/Chicago:20251205T100000
DTSTAMP:20260423T114807
CREATED:20241203T155154Z
LAST-MODIFIED:20251110T155816Z
UID:6632-1764921600-1764928800@preparednessandtraining.com
SUMMARY:Red Cross Basic Life Support - Blended Learning
DESCRIPTION:American Red Cross\n\nBasic Life Support for Healthcare Providers (BLS) \nOnline + Classroom \n\nCombines the flexibility of online training with instructor-led skills check\nStart taking your online portion immediately\nConvenient locations and times for in-person or virtual skills check with experienced instructors\n\nThe 2021 Basic Life Support (BLS) course provides healthcare providers and public safety professionals the knowledge and skills necessary to respond to breathing and cardiac emergencies in adult child and infant patients. This class is taught in a blended learning format and the online portion (accessed via mobile desktop or tablet) must be completed prior to attending the instructor-led skills session. Upon successful completion of the course learners will receive a 2-year Basic Life Support digital certificate with anytime anywhere access to certificate and training history. \nTwo Easy Steps!!!(complete both steps) – Red Cross only \nComplete this online portion  \nPay for and   SCHEDULE YOUR date/time for HANDS ON HERE  (this will take you to our external calendar where  you can schedule a selected time slot we are in the office to conduct the hands on portion) \n\n  \nOnline Learning module 76
URL:https://preparednessandtraining.com/event/red-cross-basic-life-support-blended-learning-22/
LOCATION:Online/In person Skills\, 109 Lower Ridge Road\, Conway\, AR\, 72032\, United States
ATTACH;FMTTYPE=image/png:https://preparednessandtraining.com/wp-content/uploads/2023/03/ARC-BLS-Basic-Life-Support.png
ORGANIZER;CN="Preparedness and Training":MAILTO:bjackson72@me.com
END:VEVENT
BEGIN:VEVENT
DTSTART;TZID=America/Chicago:20251208T080000
DTEND;TZID=America/Chicago:20251208T093000
DTSTAMP:20260423T114807
CREATED:20251110T154932Z
LAST-MODIFIED:20251110T154932Z
UID:7165-1765180800-1765186200@preparednessandtraining.com
SUMMARY:Adult CPR/AED - Blended Learning
DESCRIPTION:Adult CPR/AED – Blended Learning Course\nImportant Requirement\nYou MUST bring verification of online completion in order to participate in the hands-on skills session.Acceptable verification includes: \n\n\nA certificate of completion at the end of the online portion\, or \n\n\nAn email confirmation stating you completed the online module. \n\n\n⚠️ Without proof of completion\, you will not be permitted to attend the skills session. \n\nCourse Format: Online + Classroom Session\n\n\n[Click here to register] – Adult CPR/AED Online Course \n\n\n[Click here to schedule your hands-on session] – Multiple time slots available. \n\n\n🕒 Skills sessions are available on Monday\, Wednesday\, and Friday.If no time slots are available today\, please check other dates.All skills sessions must be completed within 30 days of finishing the online portion. \n\nAbout the Course\nThe Adult CPR/AED Blended Learning Course  equips students to recognize and respond to a variety of breathing and cardiac emergencies involving adults.It is ideal for individuals who need certification to meet OSHA workplace or other regulatory requirements. \nThis course is delivered in a blended format: \n\n\nThe online portion can be completed on a mobile device\, desktop\, or tablet\, and \n\n\nThe instructor-led skills session follows once the online training is complete. \n\n\n✅ Upon successful completion\, students receive a 2-year digital certification in Adult CPR/AED. \n\nA link to the online portion will be issued after your order is placed.If you experience any issues with your course link\, contact us immediately so we can assist you in completing your requirements. \n\nPerfect For\nPersonal Trainers\, Fitness Instructors\, and anyone wanting to learn the first steps to help someone in cardiac arrest.
URL:https://preparednessandtraining.com/event/adult-cpr-aed-blended-learning-11/
LOCATION:Online/In person Skills\, 109 Lower Ridge Road\, Conway\, AR\, 72032\, United States
ATTACH;FMTTYPE=image/jpeg:https://preparednessandtraining.com/wp-content/uploads/2023/08/Adult-CPRAED-Blended-Learning.jpg
ORGANIZER;CN="Preparedness and Training":MAILTO:bjackson72@me.com
END:VEVENT
BEGIN:VEVENT
DTSTART;TZID=America/Chicago:20251222T080000
DTEND;TZID=America/Chicago:20251222T093000
DTSTAMP:20260423T114807
CREATED:20251107T191657Z
LAST-MODIFIED:20251119T140828Z
UID:7149-1766390400-1766395800@preparednessandtraining.com
SUMMARY:Adult\, Child & Infant First Aid/CPR/AED - Blended Learning
DESCRIPTION:🩺 Adult\, Child & Infant First Aid/CPR/AED\nBlended Learning — Online + Classroom Session\nCertification Valid for 2 Years | OSHA-Compliant \n\n💡 Course Overview\nThis blended learning course equips students to recognize and respond to a wide range of first aid\, breathing\, and cardiac emergencies involving adults\, children\, and infants. \nDesigned for individuals who need certification to meet OSHA workplace or other regulatory requirements\, this program combines the flexibility of online learning with the confidence-building experience of hands-on skills practice. \nAfter completing the online portion\, participants will attend an instructor-led classroom session to demonstrate practical skills. Upon successful completion of both components\, a 2-year digital certificate. \n\n⚠️ Important Requirements\nYou must bring verification of online completion to participate in the hands-on session.Acceptable proof includes: \n\n\nA certificate of completion at the end of the online course\, or \n\n\nAn email confirmation verifying completion \n\n\n🚫 Students without proof of completion will not be permitted to participate in the skills session. \n\n🖱️ Step-by-Step Enrollment\nStep 1: Register for the Online Course🔗 Click Here to Register – Adult and Pediatric First Aid/CPR/AEDOnce registered\, you’ll receive your online access link within 24 hours (check your spam folder). \nStep 2: Schedule Your Hands-On Skills Session🔗 Click Here to Schedule the in person skills   \n\n\nSkill sessions held Monday\, Wednesday & Friday – you can come back and schedule after you completed the online part.  \n\n\nMultiple time slots available \n\n\nHands-on session must be completed within 30 days of online completion \n\n\nIf no sessions appear today\, they’re full—please choose another date \n\n\n\n📞 Need Help?\nIf you have trouble accessing your link or scheduling your skills session\, contact us right away — we’ll assist you in completing your course requirements and maintaining your certification.
URL:https://preparednessandtraining.com/event/adult-child-infant-first-aid-cpr-aed-blended-learning-2/
LOCATION:Online/In person Skills\, 109 Lower Ridge Road\, Conway\, AR\, 72032\, United States
ATTACH;FMTTYPE=image/png:https://preparednessandtraining.com/wp-content/uploads/2025/05/adult-child-infant-cpr.png
ORGANIZER;CN="Preparedness and Training":MAILTO:bjackson72@me.com
END:VEVENT
BEGIN:VEVENT
DTSTART;TZID=America/Chicago:20251226T080000
DTEND;TZID=America/Chicago:20251226T093000
DTSTAMP:20260423T114807
CREATED:20251119T141254Z
LAST-MODIFIED:20251130T205359Z
UID:7206-1766736000-1766741400@preparednessandtraining.com
SUMMARY:AHA Basic Life Support for Healthcare Providers - Blended Learning
DESCRIPTION:Course Description\nHeartCode® BLS Online is a self-directed\, comprehensive eLearning program that uses adaptive learning technology to teach and assess Basic Life Support skills. This program is designed for healthcare professionals who require BLS training for their clinical roles. \nThrough a combination of dramatizations\, interactive exercises\, knowledge checks\, and scenario-based assessments\, learners gain essential skills in recognizing and responding to cardiac and breathing emergencies. The online platform provides consistency\, flexibility\, and real-time feedback for different learning styles. \nUpon successful completion of both the online course and the hands-on skills session\, participants will receive an American Heart Association BLS Provider eCard\, valid for two years. \n\nTwo Easy Steps!\nStep 1: Online Learning – $37.00 \n\n\nRegister through the American Heart Association website to complete the online HeartCode® BLS course. \n\n\nBring your online completion certificate to your scheduled skills session. \n\n\nNote: Without proof of completion\, we cannot verify skills or upload results to AHA. \n\n\nStep 2: Hands-On Skills Session – $40.00 \n\n\nComplete your in-person skills check with an AHA-certified instructor. \n\n\nAvailable time slots: Monday\, Wednesday\, and Friday. \n\n\nClick here to schedule your session.  (You can come back and do this step later).
URL:https://preparednessandtraining.com/event/aha-basic-life-support-for-healthcare-providers-blended-learning-2/
LOCATION:Online/In person Skills\, 109 Lower Ridge Road\, Conway\, AR\, 72032\, United States
ATTACH;FMTTYPE=image/png:https://preparednessandtraining.com/wp-content/uploads/2025/07/Basic-Life-Support-Logo.png
ORGANIZER;CN="Preparedness and Training":MAILTO:bjackson72@me.com
END:VEVENT
END:VCALENDAR