BEGIN:VCALENDAR
VERSION:2.0
PRODID:-//Preparedness &amp; Training - ECPv6.15.20//NONSGML v1.0//EN
CALSCALE:GREGORIAN
METHOD:PUBLISH
X-WR-CALNAME:Preparedness &amp; Training
X-ORIGINAL-URL:https://preparednessandtraining.com
X-WR-CALDESC:Events for Preparedness &amp; Training
REFRESH-INTERVAL;VALUE=DURATION:PT1H
X-Robots-Tag:noindex
X-PUBLISHED-TTL:PT1H
BEGIN:VTIMEZONE
TZID:America/Chicago
BEGIN:DAYLIGHT
TZOFFSETFROM:-0600
TZOFFSETTO:-0500
TZNAME:CDT
DTSTART:20250309T080000
END:DAYLIGHT
BEGIN:STANDARD
TZOFFSETFROM:-0500
TZOFFSETTO:-0600
TZNAME:CST
DTSTART:20251102T070000
END:STANDARD
BEGIN:DAYLIGHT
TZOFFSETFROM:-0600
TZOFFSETTO:-0500
TZNAME:CDT
DTSTART:20260308T080000
END:DAYLIGHT
BEGIN:STANDARD
TZOFFSETFROM:-0500
TZOFFSETTO:-0600
TZNAME:CST
DTSTART:20261101T070000
END:STANDARD
BEGIN:DAYLIGHT
TZOFFSETFROM:-0600
TZOFFSETTO:-0500
TZNAME:CDT
DTSTART:20270314T080000
END:DAYLIGHT
BEGIN:STANDARD
TZOFFSETFROM:-0500
TZOFFSETTO:-0600
TZNAME:CST
DTSTART:20271107T070000
END:STANDARD
END:VTIMEZONE
BEGIN:VEVENT
DTSTART;VALUE=DATE:20260301
DTEND;VALUE=DATE:20260401
DTSTAMP:20260421T030133
CREATED:20260118T164446Z
LAST-MODIFIED:20260302T152454Z
UID:7420-1772323200-1775001599@preparednessandtraining.com
SUMMARY:Adult\, Child & Infant CPR/AED/First Aid - Blended Learning
DESCRIPTION:🩺 Adult\, Child & Infant First Aid/CPR/AED\nBlended Learning — Online + Classroom Session\nCertification Valid for 2 Years | OSHA-Compliant \n\n💡 Course Overview\nThis blended learning course equips students to recognize and respond to a wide range of first aid\, breathing\, and cardiac emergencies involving adults\, children\, and infants. \nDesigned for individuals who need certification to meet OSHA workplace or other regulatory requirements\, this program combines the flexibility of online learning with the confidence-building experience of hands-on skills practice. \nAfter completing the online portion\, participants will attend an instructor-led classroom session to demonstrate practical skills. Upon successful completion of both components\, a 2-year digital certificate. \n\n⚠️ Important Requirements\nYou must bring verification of online completion to participate in the hands-on session.Acceptable proof includes: \n\n\nA certificate of completion at the end of the online course\, or \n\n\nAn email confirmation verifying completion \n\n\n🚫 Students without proof of completion will not be permitted to participate in the skills session. \n\n🖱️ Step-by-Step Enrollment\nStep 1: Register for the Online Course🔗 Click Here to Register – Adult and Pediatric First Aid/CPR/AEDOnce registered\, you’ll receive your online access link within 24 hours (check your spam folder). \nStep 2: Schedule Your Hands-On Skills Session🔗 Click Here to Schedule the in person skills   \n\n\nSkill sessions held Monday\, Wednesday & Friday – you can come back and schedule after you completed the online part.  \n\n\nMultiple time slots available \n\n\nHands-on session must be completed within 30 days of online completion \n\n\nIf no sessions appear today\, they’re full—please choose another date \n\n\n\n📞 Need Help?\nIf you have trouble accessing your link or scheduling your skills session\, contact us right away — we’ll assist you in completing your course requirements and maintaining your certification.
URL:https://preparednessandtraining.com/event/adult-child-infant-cpr-aed-first-aid-blended-learning-28/
LOCATION:Online/In person Skills\, 109 Lower Ridge Road\, Conway\, AR\, 72032\, United States
ATTACH;FMTTYPE=image/png:https://preparednessandtraining.com/wp-content/uploads/2026/01/all-age-cpr-graphic.png
ORGANIZER;CN="Preparedness and Training":MAILTO:bjackson72@me.com
END:VEVENT
BEGIN:VEVENT
DTSTART;VALUE=DATE:20260301
DTEND;VALUE=DATE:20260401
DTSTAMP:20260421T030133
CREATED:20251110T161512Z
LAST-MODIFIED:20260331T142248Z
UID:7183-1772323200-1775001599@preparednessandtraining.com
SUMMARY:AHA Basic Life Support Blended Learning **2025 Guidelines
DESCRIPTION:Course Description\nHeartCode® BLS Online is a self-directed\, comprehensive eLearning program that uses adaptive learning technology to teach and assess Basic Life Support skills. This program is designed for healthcare professionals who require BLS training for their clinical roles. \nThrough a combination of dramatizations\, interactive exercises\, knowledge checks\, and scenario-based assessments\, learners gain essential skills in recognizing and responding to cardiac and breathing emergencies. The online platform provides consistency\, flexibility\, and real-time feedback for different learning styles. \nUpon successful completion of both the online course and the hands-on skills session\, participants will receive an American Heart Association BLS Provider eCard\, valid for two years. \n\nTwo Easy Steps!\nStep 1: Online Learning – $37.00\nRegister through the American Heart Association website to complete the online HeartCode® BLS course. \nBring your online completion certificate to your scheduled skills session. \nNote: Without proof of completion\, we cannot verify skills or upload results to AHA. \nStep 2: Hands-On Skills Session – $40.00\nComplete your in-person skills check with an AHA-certified instructor. \nAvailable time slots: Monday\, Wednesday\, and Friday. \nClick here to schedule your session.  (You can come back and do this step later).
URL:https://preparednessandtraining.com/event/aha-basic-life-support-blended-learning-2025-guidelines-5/
LOCATION:Online/In person Skills\, 109 Lower Ridge Road\, Conway\, AR\, 72032\, United States
ATTACH;FMTTYPE=image/png:https://preparednessandtraining.com/wp-content/uploads/2025/07/Basic-Life-Support-Logo.png
ORGANIZER;CN="Preparedness and Training":MAILTO:bjackson72@me.com
END:VEVENT
BEGIN:VEVENT
DTSTART;VALUE=DATE:20260301
DTEND;VALUE=DATE:20260401
DTSTAMP:20260421T030133
CREATED:20251129T194330Z
LAST-MODIFIED:20260131T173157Z
UID:7240-1772323200-1775001599@preparednessandtraining.com
SUMMARY:🛑 Online Opioid Overdose Response Training
DESCRIPTION:🛑 Online Opioid Overdose Response Training\nLearn How Immediate Bystander Action Can Save a Life\nOpioid overdoses are a growing crisis—but immediate bystander intervention can dramatically increase survival rates.Preparedness and Training LLC now offers an online course designed to teach you how to recognize an overdose and safely administer naloxone using three different delivery devices. \nThis flexible\, self-paced course gives you the confidence to act when it matters most. \n\n📘 Course Topics Include:\nUnderstanding Opioids & Overdose\n\n\nHow opioids affect the human body \n\n\nActions\, benefits\, and risks of opioid use \n\n\nCauses and effects of opioid overdose \n\n\nThe current opioid epidemic in the U.S. \n\n\nBystander Intervention\n\n\nWhy rapid response saves lives \n\n\nHow bystanders impact survival rates \n\n\nHow to safely recognize the signs of overdose \n\n\nNaloxone (Narcan) Administration\nLearn how to administer naloxone using: \n\n\nNarcan Nasal Spray \n\n\nEVZIO® auto-injector \n\n\nPrefilled syringe with mucosal atomizer device \n\n\nAftercare & Safety\n\n\nPrecautions following naloxone administration \n\n\nWhat to expect while waiting for emergency responders \n\n\n\n📩 Ready to Learn?\nThis online course is ideal for individuals\, families\, workplaces\, educators\, community members\, and anyone who wants to be prepared in an emergency. \nRegister Here \n 
URL:https://preparednessandtraining.com/event/%f0%9f%9b%91-online-opioid-overdose-response-training-2/
LOCATION:ONLINE
ATTACH;FMTTYPE=image/png:https://preparednessandtraining.com/wp-content/uploads/2025/07/narcan-grapic-long.png
ORGANIZER;CN="Preparedness and Training":MAILTO:bjackson72@me.com
END:VEVENT
BEGIN:VEVENT
DTSTART;VALUE=DATE:20260301
DTEND;VALUE=DATE:20260401
DTSTAMP:20260421T030133
CREATED:20251129T204215Z
LAST-MODIFIED:20260131T173237Z
UID:7285-1772323200-1775001599@preparednessandtraining.com
SUMMARY:🧸 Child & Babysitting Safety (CABS) – Choose the Training That Fits You!
DESCRIPTION:🧸 Child & Babysitting Safety (CABS) – Choose the Training That Fits You!\n📩 Register Here \nPreparedness and Training LLC now offers two great ways for teens and young adults to build confidence and skills as safe\, responsible babysitters. \nOption 1: ONLINE CABS Class\nLearn the essentials of babysitting anytime\, anywhere!This online course covers:• How to start a babysitting business• Working with parents and children• Safety\, caregiving\, and first aid basics• Fun\, engaging lessons with a magazine-style guide & video contentPerfect for busy schedules and independent learners! \n\nOption 2: Blended Learning CABS + CPR/First Aid\nTake your babysitting skills to the next level with a combination of online learning plus hands-on CPR/First Aid training.Includes:• Complete CABS curriculum• In-person CPR & First Aid practice (schedule that after completing your online courses)• Certification to boost babysitting credibility and safety skillsIdeal for those wanting a more comprehensive\, confidence-building experience. \n\n#CABS\, #BabysittingSafety\, #TeenTraining\, #HSITraining\, #CPRTraining\, #FirstAid\, #PreparednessAndTraining\, #YouthSkills
URL:https://preparednessandtraining.com/event/%f0%9f%a7%b8-child-babysitting-safety-cabs-choose-the-training-that-fits-you-5/
LOCATION:ONLINE
ATTACH;FMTTYPE=image/png:https://preparednessandtraining.com/wp-content/uploads/2023/05/Babysitter-Training.png
ORGANIZER;CN="Preparedness and Training":MAILTO:bjackson72@me.com
END:VEVENT
BEGIN:VEVENT
DTSTART;VALUE=DATE:20260301
DTEND;VALUE=DATE:20260401
DTSTAMP:20260421T030133
CREATED:20251130T202937Z
LAST-MODIFIED:20260131T173451Z
UID:7305-1772323200-1775001599@preparednessandtraining.com
SUMMARY:First Aid Online
DESCRIPTION:Online First Aid Training – Course Overview\nPreparedness and Training is offering online First Aid classes designed to build essential skills for responding to sudden injuries and medical emergencies. The program follows the AHA and ARC Guidelines Update for First Aid\, ensuring participants learn current\, evidence-based practices. \nCourse Topics\n\n\nRecognizing an emergency \n\n\nSafely moving an injured person \n\n\nPrimary assessment (responsive and unresponsive individuals) \n\n\nChoking response \n\n\nBleeding control \n\n\nManaging shock \n\n\nHead\, neck\, and back injuries \n\n\nBurns \n\n\nStroke recognition and response \n\n\nPoisoning \n\n\nREGISTER HERE – your online training will be delivered to your inbox within 24 hours.  If you do not get it please contact us immediately.
URL:https://preparednessandtraining.com/event/first-aid-online-4/
LOCATION:ONLINE
ATTACH;FMTTYPE=image/png:https://preparednessandtraining.com/wp-content/uploads/2025/11/website-first-aid-graphic.png
ORGANIZER;CN="Preparedness and Training":MAILTO:bjackson72@me.com
END:VEVENT
BEGIN:VEVENT
DTSTART;VALUE=DATE:20260301
DTEND;VALUE=DATE:20260401
DTSTAMP:20260421T030133
CREATED:20251130T204507Z
LAST-MODIFIED:20260302T150507Z
UID:7324-1772323200-1775001599@preparednessandtraining.com
SUMMARY:💖⚡Adult CPR/AED – Blended Learning Course
DESCRIPTION:💖⚡Adult CPR/AED – Blended Learning Course\nImportant Requirement\nYou MUST bring verification of online completion in order to participate in the hands-on skills session.Acceptable verification includes: \n\n\nA certificate of completion at the end of the online portion\, or \n\n\nAn email confirmation stating you completed the online module. \n\n\n⚠️ Without proof of completion\, you will not be permitted to attend the skills session. \n\nCourse Format: Online + Classroom Session\n\n\n[Click here to register] – Adult CPR/AED Online Course \n\n\n[Click here to schedule your hands-on session] – Multiple time slots available. \n\n\n🕒 Skills sessions are available on Monday\, Wednesday\, and Friday.If no time slots are available today\, please check other dates.All skills sessions must be completed within 30 days of finishing the online portion. \n\nAbout the Course\nThe Adult CPR/AED Blended Learning Course  equips students to recognize and respond to a variety of breathing and cardiac emergencies involving adults.It is ideal for individuals who need certification to meet OSHA workplace or other regulatory requirements. \nThis course is delivered in a blended format: \n\n\nThe online portion can be completed on a mobile device\, desktop\, or tablet\, and \n\n\nThe instructor-led skills session follows once the online training is complete. \n\n\n✅ Upon successful completion\, students receive a 2-year digital certification in Adult CPR/AED. \n\nA link to the online portion will be issued after your order is placed.If you experience any issues with your course link\, contact us immediately so we can assist you in completing your requirements. \n\nPerfect For\nPersonal Trainers\, Fitness Instructors\, and anyone wanting to learn the first steps to help someone in cardiac arrest. \nImportant Requirement\nYou MUST bring verification of online completion in order to participate in the hands-on skills session.Acceptable verification includes: \n\n\nA certificate of completion at the end of the online portion\, or \n\n\nAn email confirmation stating you completed the online module. \n\n\n⚠️ Without proof of completion\, you will not be permitted to attend the skills session. \n\nCourse Format: Online + Classroom Session\n\n\n[Click here to register] – Adult CPR/AED Online Course \n\n\n[Click here to schedule your hands-on session] – Multiple time slots available. \n\n\n🕒 Skills sessions are available on Monday\, Wednesday\, and Friday.If no time slots are available today\, please check other dates.All skills sessions must be completed within 30 days of finishing the online portion. \n\nAbout the Course\nThe Adult CPR/AED Blended Learning Course  equips students to recognize and respond to a variety of breathing and cardiac emergencies involving adults.It is ideal for individuals who need certification to meet OSHA workplace or other regulatory requirements. \nThis course is delivered in a blended format: \n\n\nThe online portion can be completed on a mobile device\, desktop\, or tablet\, and \n\n\nThe instructor-led skills session follows once the online training is complete. \n\n\n✅ Upon successful completion\, students receive a 2-year digital certification in Adult CPR/AED. \n\nA link to the online portion will be issued after your order is placed.If you experience any issues with your course link\, contact us immediately so we can assist you in completing your requirements. \n\nPerfect For\nPersonal Trainers\, Fitness Instructors\, and anyone wanting to learn the first steps to help someone in cardiac arrest.
URL:https://preparednessandtraining.com/event/%f0%9f%92%96%e2%9a%a1adult-cpr-aed-blended-learning-course-2/
LOCATION:Online/In person Skills\, 109 Lower Ridge Road\, Conway\, AR\, 72032\, United States
ATTACH;FMTTYPE=image/jpeg:https://preparednessandtraining.com/wp-content/uploads/2023/08/Adult-CPRAED-Blended-Learning.jpg
ORGANIZER;CN="Preparedness and Training":MAILTO:bjackson72@me.com
END:VEVENT
END:VCALENDAR